BEGIN:VCALENDAR
VERSION:2.0
PRODID:-//Northern Virginia Writers Club - ECPv6.15.18//NONSGML v1.0//EN
CALSCALE:GREGORIAN
METHOD:PUBLISH
X-ORIGINAL-URL:https://northernvirginiawriters.org
X-WR-CALDESC:Events for Northern Virginia Writers Club
REFRESH-INTERVAL;VALUE=DURATION:PT1H
X-Robots-Tag:noindex
X-PUBLISHED-TTL:PT1H
BEGIN:VTIMEZONE
TZID:America/New_York
BEGIN:DAYLIGHT
TZOFFSETFROM:-0500
TZOFFSETTO:-0400
TZNAME:EDT
DTSTART:20240310T070000
END:DAYLIGHT
BEGIN:STANDARD
TZOFFSETFROM:-0400
TZOFFSETTO:-0500
TZNAME:EST
DTSTART:20241103T060000
END:STANDARD
BEGIN:DAYLIGHT
TZOFFSETFROM:-0500
TZOFFSETTO:-0400
TZNAME:EDT
DTSTART:20250309T070000
END:DAYLIGHT
BEGIN:STANDARD
TZOFFSETFROM:-0400
TZOFFSETTO:-0500
TZNAME:EST
DTSTART:20251102T060000
END:STANDARD
BEGIN:DAYLIGHT
TZOFFSETFROM:-0500
TZOFFSETTO:-0400
TZNAME:EDT
DTSTART:20260308T070000
END:DAYLIGHT
BEGIN:STANDARD
TZOFFSETFROM:-0400
TZOFFSETTO:-0500
TZNAME:EST
DTSTART:20261101T060000
END:STANDARD
END:VTIMEZONE
BEGIN:VEVENT
DTSTART;TZID=America/New_York:20250730T183000
DTEND;TZID=America/New_York:20250730T203000
DTSTAMP:20260419T205135
CREATED:20250626T155206Z
LAST-MODIFIED:20250709T151140Z
UID:7300-1753900200-1753907400@northernvirginiawriters.org
SUMMARY:Brainstorm & Brew: Member Meetup @ Elaine's Restaurant (Old Town Alexandria)
DESCRIPTION:(Note: Date and location change!) Join members at an informal meetup at Elaine’s Restaurant  Dinner Book Club in Old Town. Look for our social media manager Allie Nelson and our president Carolyn McBride. RSVP below so we can save enough space! It’s time to celebrate author Jeffrey James Higgins and his new novel The Havana Syndrome. Jeff\, as owner of Elaine’s\, has been a gracious host to so many of our writers\, and it’s our turn to enjoy his latest work and give him a proper book club! Buy your copy today and come ready for lively conversation: \nPlease enable JavaScript in your browser to complete this form.Please enable JavaScript in your browser to complete this form.Name *FirstLastEmail *Will you be attending?YesNoHow many additional guests are you bringing?None\, just me.+1+2+3 or more		\n			guests Email are\n			\n		\n		Any comments or questions?Submit
URL:https://northernvirginiawriters.org/event/brainstorm-brew-july2025/
LOCATION:Elaine’s Restaurant\, 208 Queen St.\, Alexandria\, 22314\, United States
CATEGORIES:Meetups
END:VEVENT
END:VCALENDAR