BEGIN:VCALENDAR
VERSION:2.0
PRODID:-//Northern Virginia Writers Club - ECPv6.15.18//NONSGML v1.0//EN
CALSCALE:GREGORIAN
METHOD:PUBLISH
X-ORIGINAL-URL:https://northernvirginiawriters.org
X-WR-CALDESC:Events for Northern Virginia Writers Club
REFRESH-INTERVAL;VALUE=DURATION:PT1H
X-Robots-Tag:noindex
X-PUBLISHED-TTL:PT1H
BEGIN:VTIMEZONE
TZID:America/New_York
BEGIN:DAYLIGHT
TZOFFSETFROM:-0500
TZOFFSETTO:-0400
TZNAME:EDT
DTSTART:20240310T070000
END:DAYLIGHT
BEGIN:STANDARD
TZOFFSETFROM:-0400
TZOFFSETTO:-0500
TZNAME:EST
DTSTART:20241103T060000
END:STANDARD
BEGIN:DAYLIGHT
TZOFFSETFROM:-0500
TZOFFSETTO:-0400
TZNAME:EDT
DTSTART:20250309T070000
END:DAYLIGHT
BEGIN:STANDARD
TZOFFSETFROM:-0400
TZOFFSETTO:-0500
TZNAME:EST
DTSTART:20251102T060000
END:STANDARD
BEGIN:DAYLIGHT
TZOFFSETFROM:-0500
TZOFFSETTO:-0400
TZNAME:EDT
DTSTART:20260308T070000
END:DAYLIGHT
BEGIN:STANDARD
TZOFFSETFROM:-0400
TZOFFSETTO:-0500
TZNAME:EST
DTSTART:20261101T060000
END:STANDARD
END:VTIMEZONE
BEGIN:VEVENT
DTSTART;TZID=America/New_York:20250906T083000
DTEND;TZID=America/New_York:20250906T200000
DTSTAMP:20260419T191237
CREATED:20250428T125820Z
LAST-MODIFIED:20250428T125820Z
UID:7152-1757147400-1757188800@northernvirginiawriters.org
SUMMARY:Brainstorm & Brew: Field Trip to National Book Festival
DESCRIPTION:Join NVWC President Carolyn McBride at the National Book Festival. Depending on how many members RSVP\, we will either carpool or take the Metro to the Washington Convention Center. It will be a full-day outing (until our feet give out!)\, but you may leave early if you wish. It’s a FREE event\, and we can immerse ourselves in books all day long!! \nPlease enable JavaScript in your browser to complete this form.Please enable JavaScript in your browser to complete this form.		\n			comments Any Do\n			\n		\n		Name *FirstLastEmail *Will you be attending? *YesNoDo you have a preference of travel mode? *CarpoolSubwayHow many additional guests are you bringing? *None\, just me.+1+2+3 or moreAny comments or questions?Submit
URL:https://northernvirginiawriters.org/event/brainstorm-brew-field-trip-to-national-book-festival/
LOCATION:Walter E. Washington Convention Center\, 801 Mt Vernon Pl NW\, Washington\, DC\, 20001\, United States
CATEGORIES:Meetups
END:VEVENT
END:VCALENDAR